BEGIN:VCALENDAR
VERSION:2.0
PRODID:-//Tukios.com/
BEGIN:VEVENT
UID:d0f312b1-a8d2-4c3d-bc09-92a3b87637e1@www.randledablefuneralhome.com
DTSTAMP:20260423T202256Z
DTSTART:20260427T160000Z
DTEND:20260427T170000Z
SUMMARY:Mass
DESCRIPTION:
URL:https://www.randledablefuneralhome.com/obituaries/patricia-hahn
LOCATION:Corpus Christi Parish- St Mary Catholic Church 225 South 
	Hartwell Avenue  Waukesha WI 53186
GEO:42.9997087;-88.2206318
END:VEVENT
END:VCALENDAR