BEGIN:VCALENDAR
VERSION:2.0
PRODID:-//Tukios.com/
BEGIN:VEVENT
UID:0ff770e5-bda0-4766-8d47-d29af10ad862@www.randledablefuneralhome.com
DTSTAMP:20260423T202122Z
DTSTART:20260427T150000Z
DTEND:20260427T160000Z
SUMMARY:Visitation
DESCRIPTION:
URL:https://www.randledablefuneralhome.com/obituaries/patricia-hahn
LOCATION:Corpus Christi Parish- St Mary Catholic Church 225 South 
	Hartwell Avenue  Waukesha WI 53186
GEO:42.9997087;-88.2206318
END:VEVENT
END:VCALENDAR