BEGIN:VCALENDAR
VERSION:2.0
PRODID:-//Tukios.com/
BEGIN:VEVENT
UID:5f211b16-4487-4169-9c2d-a18ac9ffe137@www.randledablefuneralhome.com
DTSTAMP:20260424T200003Z
DTSTART:20260507T150000Z
DTEND:20260507T160000Z
SUMMARY:Family Eulogies
DESCRIPTION:
URL:https://www.randledablefuneralhome.com/obituaries/ellen-zilli
LOCATION: 440 N. Moreland Blvd.  Waukesha WI 53188
GEO:43.0187913;-88.2507884
END:VEVENT
END:VCALENDAR