BEGIN:VCALENDAR
VERSION:2.0
PRODID:-//Tukios.com/
BEGIN:VEVENT
UID:67161cdc-b3c5-4b68-9d4e-c8fab4a4dd75@www.randledablefuneralhome.com
DTSTAMP:20260424T195512Z
DTSTART:20260507T160000Z
DTEND:20260507T170000Z
SUMMARY:Funeral Mass
DESCRIPTION:
URL:https://www.randledablefuneralhome.com/obituaries/ellen-zilli
LOCATION: 440 N. Moreland Blvd.  Waukesha WI 53188
GEO:43.0187913;-88.2507884
END:VEVENT
END:VCALENDAR