BEGIN:VCALENDAR
VERSION:2.0
PRODID:-//Tukios.com/
BEGIN:VEVENT
UID:4b57edb0-fac6-4176-b049-68bb9726926c@www.randledablefuneralhome.com
DTSTAMP:20260424T195632Z
DTSTART:20260507T140000Z
DTEND:20260507T150000Z
SUMMARY:Visitation
DESCRIPTION:
URL:https://www.randledablefuneralhome.com/obituaries/ellen-zilli
LOCATION:Corpus Christi Parish-St. William Church 440 N. Moreland Blvd.  
	Waukesha WI 53188
GEO:43.0187913;-88.2507884
END:VEVENT
END:VCALENDAR