BEGIN:VCALENDAR
VERSION:2.0
PRODID:-//Tukios.com/
BEGIN:VEVENT
UID:0c6ac387-eca5-4c1b-8cbb-c617af841f2a@www.randledablefuneralhome.com
DTSTAMP:20260424T195921Z
DTSTART:20260506T210000Z
DTEND:20260507T000000Z
SUMMARY:Visitation
DESCRIPTION:
URL:https://www.randledablefuneralhome.com/obituaries/ellen-zilli
LOCATION:Corpus Christi Parish-St. William Church 440 N. Moreland Blvd.  
	Waukesha WI 53188
GEO:43.0187913;-88.2507884
END:VEVENT
END:VCALENDAR