BEGIN:VCALENDAR
VERSION:2.0
PRODID:-//Tukios.com/
BEGIN:VEVENT
UID:501ef8f3-d202-4e3a-a0f0-b9e8be51278a@www.randledablefuneralhome.com
DTSTAMP:20260422T000034Z
DTSTART:20260425T160000Z
DTEND:20260425T170000Z
SUMMARY:Funeral Service
DESCRIPTION:
URL:https://www.randledablefuneralhome.com/obituaries/douglas-canham
LOCATION: 1110 S Grand Ave  Waukesha WI 53186
GEO:42.9923126;-88.2326639
END:VEVENT
END:VCALENDAR