BEGIN:VCALENDAR
VERSION:2.0
PRODID:-//Tukios.com/
BEGIN:VEVENT
UID:579acd94-0a9c-421c-93a3-b22d688dbf72@www.randledablefuneralhome.com
DTSTAMP:20260422T000029Z
DTSTART:20260425T150000Z
DTEND:20260425T160000Z
SUMMARY:Visitation
DESCRIPTION:
URL:https://www.randledablefuneralhome.com/obituaries/douglas-canham
LOCATION:Randle-Dable-Brisk Funeral Home 1110 S Grand Ave  Waukesha WI 
	53186
GEO:42.9923126;-88.2326639
END:VEVENT
END:VCALENDAR